BEGIN:VCALENDAR
VERSION:2.0
PRODID:https://www.kufer.de/kuferweb / DE
METHOD:PUBLISH
CALSCALE:GREGORIAN
X-WR-TIMEZONE:Europe/Berlin
BEGIN:VTIMEZONE
TZID:Europe/Berlin
X-LIC-LOCATION:Europe/Berlin
BEGIN:DAYLIGHT
TZOFFSETFROM:+0100
TZOFFSETTO:+0200
TZNAME:CEST
DTSTART:19700329T020000
RRULE:FREQ=YEARLY;INTERVAL=1;BYDAY=-1SU;BYMONTH=3
END:DAYLIGHT
BEGIN:STANDARD
TZOFFSETFROM:+0200
TZOFFSETTO:+0100
TZNAME:CET
DTSTART:19701025T030000
RRULE:FREQ=YEARLY;INTERVAL=1;BYDAY=-1SU;BYMONTH=10
END:STANDARD
END:VTIMEZONE
BEGIN:VEVENT
DTSTAMP:20260424T123236
DTSTART;TZID=Europe/Berlin:20260724T080000
DTEND;TZID=Europe/Berlin:20260724T160000
UID:261-R114ZZ-20260724T080000@VHSLIPPE-OST
SUMMARY:Erste-Hilfe am Kind - SommerIntermeZZo Für Eltern und Babysitter*innen (261-R114ZZ) 
LOCATION:Geschäftsstelle der Johanniter-Unfall-Hilfe, Raum Lippe , Am Diestelbach 5-7, 32825 Blomberg
END:VEVENT
END:VCALENDAR